BEGIN:VCALENDAR
VERSION:2.0
PRODID:-//Saalfelden-Leogang.com//NONSGML kigkonsult.se iCalcreator 2.22.1/
 /EN
METHOD:PUBLISH
X-WR-CALNAME;LANGUAGE=en:Saalfelden-Leogang.com
X-WR-CALDESC;LANGUAGE=en:Saalfelden-Leogang.com
X-WR-TIMEZONE;LANGUAGE=en:Europe/Berlin
BEGIN:VEVENT
UID:20260419T223551CEST-6277k7FfRb@Saalfelden-Leogang.com
DTSTAMP:20260419T203551Z
DESCRIPTION;LANGUAGE=en:Depending on the snow conditions\, we hike around t
 he Ritzensee with or without snowshoes. We take a break at the panoramic b
 ench and enjoy the relaxed view over the extensive Saalfelden basin as far
  as Lake Zell and the Kitzsteinhorn. The easy route is ideal for families 
 and beginners.\n\n\n\n\n\nTime: 1.00 - 3.30 p.m. \n\nMeeting point: Injoy 
 parking area Ritzensee Saalfelden \n\nEasy hike\, 3\,2 km\, 100 hm\n\nCost
 s: with the Saalfelden Leogang Card free of charge\, without card 20\,- Eu
 ro per person \n\nNumber of participants: min. 2 persons \n\nEquipment: wi
 nter snowshoes\, winter boots\, poles\, dangling rods \n\nRegistration: by
  4 p.m. the day before \n\n\n\nscroll down for registration
DTSTART:20251201T120000Z
DTEND:20251201T143000Z
LOCATION;LANGUAGE=en:Parkplatz Injoy am Ritzensee
SUMMARY;LANGUAGE=en:Idyllische Ritzensee Wanderung
END:VEVENT
BEGIN:VEVENT
UID:20260419T223551CEST-6278OSGdpv@Saalfelden-Leogang.com
DTSTAMP:20260419T203551Z
DESCRIPTION;LANGUAGE=en:Depending on the snow conditions\, we hike around t
 he Ritzensee with or without snowshoes. We take a break at the panoramic b
 ench and enjoy the relaxed view over the extensive Saalfelden basin as far
  as Lake Zell and the Kitzsteinhorn. The easy route is ideal for families 
 and beginners.\n\n\n\n\n\nTime: 1.00 - 3.30 p.m. \n\nMeeting point: Injoy 
 parking area Ritzensee Saalfelden \n\nEasy hike\, 3\,2 km\, 100 hm\n\nCost
 s: with the Saalfelden Leogang Card free of charge\, without card 20\,- Eu
 ro per person \n\nNumber of participants: min. 2 persons \n\nEquipment: wi
 nter snowshoes\, winter boots\, poles\, dangling rods \n\nRegistration: by
  4 p.m. the day before \n\n\n\nscroll down for registration
DTSTART:20251208T120000Z
DTEND:20251208T143000Z
LOCATION;LANGUAGE=en:Parkplatz Injoy am Ritzensee
SUMMARY;LANGUAGE=en:Idyllische Ritzensee Wanderung
END:VEVENT
BEGIN:VEVENT
UID:20260419T223551CEST-62795V1bG5@Saalfelden-Leogang.com
DTSTAMP:20260419T203551Z
DESCRIPTION;LANGUAGE=en:Depending on the snow conditions\, we hike around t
 he Ritzensee with or without snowshoes. We take a break at the panoramic b
 ench and enjoy the relaxed view over the extensive Saalfelden basin as far
  as Lake Zell and the Kitzsteinhorn. The easy route is ideal for families 
 and beginners.\n\n\n\n\n\nTime: 1.00 - 3.30 p.m. \n\nMeeting point: Injoy 
 parking area Ritzensee Saalfelden \n\nEasy hike\, 3\,2 km\, 100 hm\n\nCost
 s: with the Saalfelden Leogang Card free of charge\, without card 20\,- Eu
 ro per person \n\nNumber of participants: min. 2 persons \n\nEquipment: wi
 nter snowshoes\, winter boots\, poles\, dangling rods \n\nRegistration: by
  4 p.m. the day before \n\n\n\nscroll down for registration
DTSTART:20251215T120000Z
DTEND:20251215T143000Z
LOCATION;LANGUAGE=en:Parkplatz Injoy am Ritzensee
SUMMARY;LANGUAGE=en:Idyllische Ritzensee Wanderung
END:VEVENT
BEGIN:VEVENT
UID:20260419T223551CEST-6279iOWbWu@Saalfelden-Leogang.com
DTSTAMP:20260419T203551Z
DESCRIPTION;LANGUAGE=en:Depending on the snow conditions\, we hike around t
 he Ritzensee with or without snowshoes. We take a break at the panoramic b
 ench and enjoy the relaxed view over the extensive Saalfelden basin as far
  as Lake Zell and the Kitzsteinhorn. The easy route is ideal for families 
 and beginners.\n\n\n\n\n\nTime: 1.00 - 3.30 p.m. \n\nMeeting point: Injoy 
 parking area Ritzensee Saalfelden \n\nEasy hike\, 3\,2 km\, 100 hm\n\nCost
 s: with the Saalfelden Leogang Card free of charge\, without card 20\,- Eu
 ro per person \n\nNumber of participants: min. 2 persons \n\nEquipment: wi
 nter snowshoes\, winter boots\, poles\, dangling rods \n\nRegistration: by
  4 p.m. the day before \n\n\n\nscroll down for registration
DTSTART:20251222T120000Z
DTEND:20251222T143000Z
LOCATION;LANGUAGE=en:Parkplatz Injoy am Ritzensee
SUMMARY;LANGUAGE=en:Idyllische Ritzensee Wanderung
END:VEVENT
BEGIN:VEVENT
UID:20260419T223551CEST-6280IV8xdd@Saalfelden-Leogang.com
DTSTAMP:20260419T203551Z
DESCRIPTION;LANGUAGE=en:Depending on the snow conditions\, we hike around t
 he Ritzensee with or without snowshoes. We take a break at the panoramic b
 ench and enjoy the relaxed view over the extensive Saalfelden basin as far
  as Lake Zell and the Kitzsteinhorn. The easy route is ideal for families 
 and beginners.\n\n\n\n\n\nTime: 1.00 - 3.30 p.m. \n\nMeeting point: Injoy 
 parking area Ritzensee Saalfelden \n\nEasy hike\, 3\,2 km\, 100 hm\n\nCost
 s: with the Saalfelden Leogang Card free of charge\, without card 20\,- Eu
 ro per person \n\nNumber of participants: min. 2 persons \n\nEquipment: wi
 nter snowshoes\, winter boots\, poles\, dangling rods \n\nRegistration: by
  4 p.m. the day before \n\n\n\nscroll down for registration
DTSTART:20251229T120000Z
DTEND:20251229T143000Z
LOCATION;LANGUAGE=en:Parkplatz Injoy am Ritzensee
SUMMARY;LANGUAGE=en:Idyllische Ritzensee Wanderung
END:VEVENT
BEGIN:VEVENT
UID:20260419T223551CEST-62816EZVWG@Saalfelden-Leogang.com
DTSTAMP:20260419T203551Z
DESCRIPTION;LANGUAGE=en:Depending on the snow conditions\, we hike around t
 he Ritzensee with or without snowshoes. We take a break at the panoramic b
 ench and enjoy the relaxed view over the extensive Saalfelden basin as far
  as Lake Zell and the Kitzsteinhorn. The easy route is ideal for families 
 and beginners.\n\n\n\n\n\nTime: 1.00 - 3.30 p.m. \n\nMeeting point: Injoy 
 parking area Ritzensee Saalfelden \n\nEasy hike\, 3\,2 km\, 100 hm\n\nCost
 s: with the Saalfelden Leogang Card free of charge\, without card 20\,- Eu
 ro per person \n\nNumber of participants: min. 2 persons \n\nEquipment: wi
 nter snowshoes\, winter boots\, poles\, dangling rods \n\nRegistration: by
  4 p.m. the day before \n\n\n\nscroll down for registration
DTSTART:20260105T120000Z
DTEND:20260105T143000Z
LOCATION;LANGUAGE=en:Parkplatz Injoy am Ritzensee
SUMMARY;LANGUAGE=en:Idyllische Ritzensee Wanderung
END:VEVENT
BEGIN:VEVENT
UID:20260419T223551CEST-6281NXxVOV@Saalfelden-Leogang.com
DTSTAMP:20260419T203551Z
DESCRIPTION;LANGUAGE=en:Depending on the snow conditions\, we hike around t
 he Ritzensee with or without snowshoes. We take a break at the panoramic b
 ench and enjoy the relaxed view over the extensive Saalfelden basin as far
  as Lake Zell and the Kitzsteinhorn. The easy route is ideal for families 
 and beginners.\n\n\n\n\n\nTime: 1.00 - 3.30 p.m. \n\nMeeting point: Injoy 
 parking area Ritzensee Saalfelden \n\nEasy hike\, 3\,2 km\, 100 hm\n\nCost
 s: with the Saalfelden Leogang Card free of charge\, without card 20\,- Eu
 ro per person \n\nNumber of participants: min. 2 persons \n\nEquipment: wi
 nter snowshoes\, winter boots\, poles\, dangling rods \n\nRegistration: by
  4 p.m. the day before \n\n\n\nscroll down for registration
DTSTART:20260112T120000Z
DTEND:20260112T143000Z
LOCATION;LANGUAGE=en:Parkplatz Injoy am Ritzensee
SUMMARY;LANGUAGE=en:Idyllische Ritzensee Wanderung
END:VEVENT
BEGIN:VEVENT
UID:20260419T223551CEST-6282UHxdSM@Saalfelden-Leogang.com
DTSTAMP:20260419T203551Z
DESCRIPTION;LANGUAGE=en:Depending on the snow conditions\, we hike around t
 he Ritzensee with or without snowshoes. We take a break at the panoramic b
 ench and enjoy the relaxed view over the extensive Saalfelden basin as far
  as Lake Zell and the Kitzsteinhorn. The easy route is ideal for families 
 and beginners.\n\n\n\n\n\nTime: 1.00 - 3.30 p.m. \n\nMeeting point: Injoy 
 parking area Ritzensee Saalfelden \n\nEasy hike\, 3\,2 km\, 100 hm\n\nCost
 s: with the Saalfelden Leogang Card free of charge\, without card 20\,- Eu
 ro per person \n\nNumber of participants: min. 2 persons \n\nEquipment: wi
 nter snowshoes\, winter boots\, poles\, dangling rods \n\nRegistration: by
  4 p.m. the day before \n\n\n\nscroll down for registration
DTSTART:20260119T120000Z
DTEND:20260119T143000Z
LOCATION;LANGUAGE=en:Parkplatz Injoy am Ritzensee
SUMMARY;LANGUAGE=en:Idyllische Ritzensee Wanderung
END:VEVENT
BEGIN:VEVENT
UID:20260419T223551CEST-6283biGphd@Saalfelden-Leogang.com
DTSTAMP:20260419T203551Z
DESCRIPTION;LANGUAGE=en:Depending on the snow conditions\, we hike around t
 he Ritzensee with or without snowshoes. We take a break at the panoramic b
 ench and enjoy the relaxed view over the extensive Saalfelden basin as far
  as Lake Zell and the Kitzsteinhorn. The easy route is ideal for families 
 and beginners.\n\n\n\n\n\nTime: 1.00 - 3.30 p.m. \n\nMeeting point: Injoy 
 parking area Ritzensee Saalfelden \n\nEasy hike\, 3\,2 km\, 100 hm\n\nCost
 s: with the Saalfelden Leogang Card free of charge\, without card 20\,- Eu
 ro per person \n\nNumber of participants: min. 2 persons \n\nEquipment: wi
 nter snowshoes\, winter boots\, poles\, dangling rods \n\nRegistration: by
  4 p.m. the day before \n\n\n\nscroll down for registration
DTSTART:20260126T120000Z
DTEND:20260126T143000Z
LOCATION;LANGUAGE=en:Parkplatz Injoy am Ritzensee
SUMMARY;LANGUAGE=en:Idyllische Ritzensee Wanderung
END:VEVENT
BEGIN:VEVENT
UID:20260419T223551CEST-62832ju14v@Saalfelden-Leogang.com
DTSTAMP:20260419T203551Z
DESCRIPTION;LANGUAGE=en:Depending on the snow conditions\, we hike around t
 he Ritzensee with or without snowshoes. We take a break at the panoramic b
 ench and enjoy the relaxed view over the extensive Saalfelden basin as far
  as Lake Zell and the Kitzsteinhorn. The easy route is ideal for families 
 and beginners.\n\n\n\n\n\nTime: 1.00 - 3.30 p.m. \n\nMeeting point: Injoy 
 parking area Ritzensee Saalfelden \n\nEasy hike\, 3\,2 km\, 100 hm\n\nCost
 s: with the Saalfelden Leogang Card free of charge\, without card 20\,- Eu
 ro per person \n\nNumber of participants: min. 2 persons \n\nEquipment: wi
 nter snowshoes\, winter boots\, poles\, dangling rods \n\nRegistration: by
  4 p.m. the day before \n\n\n\nscroll down for registration
DTSTART:20260202T120000Z
DTEND:20260202T143000Z
LOCATION;LANGUAGE=en:Parkplatz Injoy am Ritzensee
SUMMARY;LANGUAGE=en:Idyllische Ritzensee Wanderung
END:VEVENT
BEGIN:VEVENT
UID:20260419T223551CEST-6284jGM1bc@Saalfelden-Leogang.com
DTSTAMP:20260419T203551Z
DESCRIPTION;LANGUAGE=en:Depending on the snow conditions\, we hike around t
 he Ritzensee with or without snowshoes. We take a break at the panoramic b
 ench and enjoy the relaxed view over the extensive Saalfelden basin as far
  as Lake Zell and the Kitzsteinhorn. The easy route is ideal for families 
 and beginners.\n\n\n\n\n\nTime: 1.00 - 3.30 p.m. \n\nMeeting point: Injoy 
 parking area Ritzensee Saalfelden \n\nEasy hike\, 3\,2 km\, 100 hm\n\nCost
 s: with the Saalfelden Leogang Card free of charge\, without card 20\,- Eu
 ro per person \n\nNumber of participants: min. 2 persons \n\nEquipment: wi
 nter snowshoes\, winter boots\, poles\, dangling rods \n\nRegistration: by
  4 p.m. the day before \n\n\n\nscroll down for registration
DTSTART:20260209T120000Z
DTEND:20260209T143000Z
LOCATION;LANGUAGE=en:Parkplatz Injoy am Ritzensee
SUMMARY;LANGUAGE=en:Idyllische Ritzensee Wanderung
END:VEVENT
BEGIN:VEVENT
UID:20260419T223551CEST-6284xh8peX@Saalfelden-Leogang.com
DTSTAMP:20260419T203551Z
DESCRIPTION;LANGUAGE=en:Depending on the snow conditions\, we hike around t
 he Ritzensee with or without snowshoes. We take a break at the panoramic b
 ench and enjoy the relaxed view over the extensive Saalfelden basin as far
  as Lake Zell and the Kitzsteinhorn. The easy route is ideal for families 
 and beginners.\n\n\n\n\n\nTime: 1.00 - 3.30 p.m. \n\nMeeting point: Injoy 
 parking area Ritzensee Saalfelden \n\nEasy hike\, 3\,2 km\, 100 hm\n\nCost
 s: with the Saalfelden Leogang Card free of charge\, without card 20\,- Eu
 ro per person \n\nNumber of participants: min. 2 persons \n\nEquipment: wi
 nter snowshoes\, winter boots\, poles\, dangling rods \n\nRegistration: by
  4 p.m. the day before \n\n\n\nscroll down for registration
DTSTART:20260216T120000Z
DTEND:20260216T143000Z
LOCATION;LANGUAGE=en:Parkplatz Injoy am Ritzensee
SUMMARY;LANGUAGE=en:Idyllische Ritzensee Wanderung
END:VEVENT
BEGIN:VEVENT
UID:20260419T223551CEST-6285LKfxBM@Saalfelden-Leogang.com
DTSTAMP:20260419T203551Z
DESCRIPTION;LANGUAGE=en:Depending on the snow conditions\, we hike around t
 he Ritzensee with or without snowshoes. We take a break at the panoramic b
 ench and enjoy the relaxed view over the extensive Saalfelden basin as far
  as Lake Zell and the Kitzsteinhorn. The easy route is ideal for families 
 and beginners.\n\n\n\n\n\nTime: 1.00 - 3.30 p.m. \n\nMeeting point: Injoy 
 parking area Ritzensee Saalfelden \n\nEasy hike\, 3\,2 km\, 100 hm\n\nCost
 s: with the Saalfelden Leogang Card free of charge\, without card 20\,- Eu
 ro per person \n\nNumber of participants: min. 2 persons \n\nEquipment: wi
 nter snowshoes\, winter boots\, poles\, dangling rods \n\nRegistration: by
  4 p.m. the day before \n\n\n\nscroll down for registration
DTSTART:20260223T120000Z
DTEND:20260223T143000Z
LOCATION;LANGUAGE=en:Parkplatz Injoy am Ritzensee
SUMMARY;LANGUAGE=en:Idyllische Ritzensee Wanderung
END:VEVENT
BEGIN:VEVENT
UID:20260419T223551CEST-6286mbfDmu@Saalfelden-Leogang.com
DTSTAMP:20260419T203551Z
DESCRIPTION;LANGUAGE=en:Depending on the snow conditions\, we hike around t
 he Ritzensee with or without snowshoes. We take a break at the panoramic b
 ench and enjoy the relaxed view over the extensive Saalfelden basin as far
  as Lake Zell and the Kitzsteinhorn. The easy route is ideal for families 
 and beginners.\n\n\n\n\n\nTime: 1.00 - 3.30 p.m. \n\nMeeting point: Injoy 
 parking area Ritzensee Saalfelden \n\nEasy hike\, 3\,2 km\, 100 hm\n\nCost
 s: with the Saalfelden Leogang Card free of charge\, without card 20\,- Eu
 ro per person \n\nNumber of participants: min. 2 persons \n\nEquipment: wi
 nter snowshoes\, winter boots\, poles\, dangling rods \n\nRegistration: by
  4 p.m. the day before \n\n\n\nscroll down for registration
DTSTART:20260302T120000Z
DTEND:20260302T143000Z
LOCATION;LANGUAGE=en:Parkplatz Injoy am Ritzensee
SUMMARY;LANGUAGE=en:Idyllische Ritzensee Wanderung
END:VEVENT
BEGIN:VEVENT
UID:20260419T223551CEST-6286vg3iVb@Saalfelden-Leogang.com
DTSTAMP:20260419T203551Z
DESCRIPTION;LANGUAGE=en:Depending on the snow conditions\, we hike around t
 he Ritzensee with or without snowshoes. We take a break at the panoramic b
 ench and enjoy the relaxed view over the extensive Saalfelden basin as far
  as Lake Zell and the Kitzsteinhorn. The easy route is ideal for families 
 and beginners.\n\n\n\n\n\nTime: 1.00 - 3.30 p.m. \n\nMeeting point: Injoy 
 parking area Ritzensee Saalfelden \n\nEasy hike\, 3\,2 km\, 100 hm\n\nCost
 s: with the Saalfelden Leogang Card free of charge\, without card 20\,- Eu
 ro per person \n\nNumber of participants: min. 2 persons \n\nEquipment: wi
 nter snowshoes\, winter boots\, poles\, dangling rods \n\nRegistration: by
  4 p.m. the day before \n\n\n\nscroll down for registration
DTSTART:20260309T120000Z
DTEND:20260309T143000Z
LOCATION;LANGUAGE=en:Parkplatz Injoy am Ritzensee
SUMMARY;LANGUAGE=en:Idyllische Ritzensee Wanderung
END:VEVENT
BEGIN:VEVENT
UID:20260419T223551CEST-6287LEX9gt@Saalfelden-Leogang.com
DTSTAMP:20260419T203551Z
DESCRIPTION;LANGUAGE=en:Depending on the snow conditions\, we hike around t
 he Ritzensee with or without snowshoes. We take a break at the panoramic b
 ench and enjoy the relaxed view over the extensive Saalfelden basin as far
  as Lake Zell and the Kitzsteinhorn. The easy route is ideal for families 
 and beginners.\n\n\n\n\n\nTime: 1.00 - 3.30 p.m. \n\nMeeting point: Injoy 
 parking area Ritzensee Saalfelden \n\nEasy hike\, 3\,2 km\, 100 hm\n\nCost
 s: with the Saalfelden Leogang Card free of charge\, without card 20\,- Eu
 ro per person \n\nNumber of participants: min. 2 persons \n\nEquipment: wi
 nter snowshoes\, winter boots\, poles\, dangling rods \n\nRegistration: by
  4 p.m. the day before \n\n\n\nscroll down for registration
DTSTART:20260316T120000Z
DTEND:20260316T143000Z
LOCATION;LANGUAGE=en:Parkplatz Injoy am Ritzensee
SUMMARY;LANGUAGE=en:Idyllische Ritzensee Wanderung
END:VEVENT
BEGIN:VEVENT
UID:20260419T223551CEST-6288Dgudsz@Saalfelden-Leogang.com
DTSTAMP:20260419T203551Z
DESCRIPTION;LANGUAGE=en:Depending on the snow conditions\, we hike around t
 he Ritzensee with or without snowshoes. We take a break at the panoramic b
 ench and enjoy the relaxed view over the extensive Saalfelden basin as far
  as Lake Zell and the Kitzsteinhorn. The easy route is ideal for families 
 and beginners.\n\n\n\n\n\nTime: 1.00 - 3.30 p.m. \n\nMeeting point: Injoy 
 parking area Ritzensee Saalfelden \n\nEasy hike\, 3\,2 km\, 100 hm\n\nCost
 s: with the Saalfelden Leogang Card free of charge\, without card 20\,- Eu
 ro per person \n\nNumber of participants: min. 2 persons \n\nEquipment: wi
 nter snowshoes\, winter boots\, poles\, dangling rods \n\nRegistration: by
  4 p.m. the day before \n\n\n\nscroll down for registration
DTSTART:20260323T120000Z
DTEND:20260323T143000Z
LOCATION;LANGUAGE=en:Parkplatz Injoy am Ritzensee
SUMMARY;LANGUAGE=en:Idyllische Ritzensee Wanderung
END:VEVENT
BEGIN:VEVENT
UID:20260419T223551CEST-6288xPCdAm@Saalfelden-Leogang.com
DTSTAMP:20260419T203551Z
DESCRIPTION;LANGUAGE=en:Depending on the snow conditions\, we hike around t
 he Ritzensee with or without snowshoes. We take a break at the panoramic b
 ench and enjoy the relaxed view over the extensive Saalfelden basin as far
  as Lake Zell and the Kitzsteinhorn. The easy route is ideal for families 
 and beginners.\n\n\n\n\n\nTime: 1.00 - 3.30 p.m. \n\nMeeting point: Injoy 
 parking area Ritzensee Saalfelden \n\nEasy hike\, 3\,2 km\, 100 hm\n\nCost
 s: with the Saalfelden Leogang Card free of charge\, without card 20\,- Eu
 ro per person \n\nNumber of participants: min. 2 persons \n\nEquipment: wi
 nter snowshoes\, winter boots\, poles\, dangling rods \n\nRegistration: by
  4 p.m. the day before \n\n\n\nscroll down for registration
DTSTART:20260330T110000Z
DTEND:20260330T133000Z
LOCATION;LANGUAGE=en:Parkplatz Injoy am Ritzensee
SUMMARY;LANGUAGE=en:Idyllische Ritzensee Wanderung
END:VEVENT
BEGIN:VEVENT
UID:20260419T223551CEST-62899rUvSU@Saalfelden-Leogang.com
DTSTAMP:20260419T203551Z
DESCRIPTION;LANGUAGE=en:Depending on the snow conditions\, we hike around t
 he Ritzensee with or without snowshoes. We take a break at the panoramic b
 ench and enjoy the relaxed view over the extensive Saalfelden basin as far
  as Lake Zell and the Kitzsteinhorn. The easy route is ideal for families 
 and beginners.\n\n\n\n\n\nTime: 1.00 - 3.30 p.m. \n\nMeeting point: Injoy 
 parking area Ritzensee Saalfelden \n\nEasy hike\, 3\,2 km\, 100 hm\n\nCost
 s: with the Saalfelden Leogang Card free of charge\, without card 20\,- Eu
 ro per person \n\nNumber of participants: min. 2 persons \n\nEquipment: wi
 nter snowshoes\, winter boots\, poles\, dangling rods \n\nRegistration: by
  4 p.m. the day before \n\n\n\nscroll down for registration
DTSTART:20260406T110000Z
DTEND:20260406T133000Z
LOCATION;LANGUAGE=en:Parkplatz Injoy am Ritzensee
SUMMARY;LANGUAGE=en:Idyllische Ritzensee Wanderung
END:VEVENT
BEGIN:VEVENT
UID:20260419T223551CEST-628919UJVc@Saalfelden-Leogang.com
DTSTAMP:20260419T203551Z
DESCRIPTION;LANGUAGE=en:Depending on the snow conditions\, we hike around t
 he Ritzensee with or without snowshoes. We take a break at the panoramic b
 ench and enjoy the relaxed view over the extensive Saalfelden basin as far
  as Lake Zell and the Kitzsteinhorn. The easy route is ideal for families 
 and beginners.\n\n\n\n\n\nTime: 1.00 - 3.30 p.m. \n\nMeeting point: Injoy 
 parking area Ritzensee Saalfelden \n\nEasy hike\, 3\,2 km\, 100 hm\n\nCost
 s: with the Saalfelden Leogang Card free of charge\, without card 20\,- Eu
 ro per person \n\nNumber of participants: min. 2 persons \n\nEquipment: wi
 nter snowshoes\, winter boots\, poles\, dangling rods \n\nRegistration: by
  4 p.m. the day before \n\n\n\nscroll down for registration
DTSTART:20260413T110000Z
DTEND:20260413T133000Z
LOCATION;LANGUAGE=en:Parkplatz Injoy am Ritzensee
SUMMARY;LANGUAGE=en:Idyllische Ritzensee Wanderung
END:VEVENT
BEGIN:VEVENT
UID:20260419T223551CEST-6290RZtCA7@Saalfelden-Leogang.com
DTSTAMP:20260419T203551Z
DESCRIPTION;LANGUAGE=en:Depending on the snow conditions\, we hike around t
 he Ritzensee with or without snowshoes. We take a break at the panoramic b
 ench and enjoy the relaxed view over the extensive Saalfelden basin as far
  as Lake Zell and the Kitzsteinhorn. The easy route is ideal for families 
 and beginners.\n\n\n\n\n\nTime: 1.00 - 3.30 p.m. \n\nMeeting point: Injoy 
 parking area Ritzensee Saalfelden \n\nEasy hike\, 3\,2 km\, 100 hm\n\nCost
 s: with the Saalfelden Leogang Card free of charge\, without card 20\,- Eu
 ro per person \n\nNumber of participants: min. 2 persons \n\nEquipment: wi
 nter snowshoes\, winter boots\, poles\, dangling rods \n\nRegistration: by
  4 p.m. the day before \n\n\n\nscroll down for registration
DTSTART:20260420T110000Z
DTEND:20260420T133000Z
LOCATION;LANGUAGE=en:Parkplatz Injoy am Ritzensee
SUMMARY;LANGUAGE=en:Idyllische Ritzensee Wanderung
END:VEVENT
BEGIN:VEVENT
UID:20260419T223551CEST-6291zrKH4d@Saalfelden-Leogang.com
DTSTAMP:20260419T203551Z
DESCRIPTION;LANGUAGE=en:Depending on the snow conditions\, we hike around t
 he Ritzensee with or without snowshoes. We take a break at the panoramic b
 ench and enjoy the relaxed view over the extensive Saalfelden basin as far
  as Lake Zell and the Kitzsteinhorn. The easy route is ideal for families 
 and beginners.\n\n\n\n\n\nTime: 1.00 - 3.30 p.m. \n\nMeeting point: Injoy 
 parking area Ritzensee Saalfelden \n\nEasy hike\, 3\,2 km\, 100 hm\n\nCost
 s: with the Saalfelden Leogang Card free of charge\, without card 20\,- Eu
 ro per person \n\nNumber of participants: min. 2 persons \n\nEquipment: wi
 nter snowshoes\, winter boots\, poles\, dangling rods \n\nRegistration: by
  4 p.m. the day before \n\n\n\nscroll down for registration
DTSTART:20260427T110000Z
DTEND:20260427T133000Z
LOCATION;LANGUAGE=en:Parkplatz Injoy am Ritzensee
SUMMARY;LANGUAGE=en:Idyllische Ritzensee Wanderung
END:VEVENT
END:VCALENDAR
